BEGIN:VCALENDAR
VERSION:2.0
PRODID:-//Writing WA - ECPv6.15.20//NONSGML v1.0//EN
CALSCALE:GREGORIAN
METHOD:PUBLISH
X-ORIGINAL-URL:https://www.writingwa.org
X-WR-CALDESC:Events for Writing WA
REFRESH-INTERVAL;VALUE=DURATION:PT1H
X-Robots-Tag:noindex
X-PUBLISHED-TTL:PT1H
BEGIN:VTIMEZONE
TZID:Australia/Perth
BEGIN:STANDARD
TZOFFSETFROM:+0800
TZOFFSETTO:+0800
TZNAME:AWST
DTSTART:20250101T000000
END:STANDARD
END:VTIMEZONE
BEGIN:VEVENT
DTSTART;TZID=Australia/Perth:20260423T180000
DTEND;TZID=Australia/Perth:20260423T210000
DTSTAMP:20260424T004757
CREATED:20260217T020504Z
LAST-MODIFIED:20260217T020504Z
UID:10005213-1776967200-1776978000@www.writingwa.org
SUMMARY:Crime With Wine Vol.3: Tanya Scott\, Lisa Ellery\, Sara Foster\, Dawn Farnham
DESCRIPTION:Books in the Brewery have partnered with our friends at Sisters in Crime WA to bring you this special edition of Crime With Wine\, hosted by Dawn Farnham and featuring Tanya Scott\, Lisa Ellery & Sara Foster.\nCome\, sit\, sip your wine and be entertained at the third Books in the Brewery celebration of crime fiction featuring four Sisters in Crime from across the crime writing spectrum.\nOur guest authors will be discussing their new books and all things crime – favourite detectives\, must watch TV (was it only me who binged Lincoln Lawyer season 4?)\, inspiration for their novels\, writing insights\, and best way to murder somebody (on the page\, honest!) followed by the opportunity for audience questions and book signings thanks to the incomparable team at Boundless Books. \nSeating will be cabaret style at tables. Dinner service will be available from the bar. \nApprox times: \n6pm – Doors open \n645pm – Panel discussion & readings \n815pm – Book sales\, signings\, photo ops
URL:https://www.writingwa.org/event/crime-with-wine-vol-3-tanya-scott-lisa-ellery-sara-foster-dawn-farnham/
LOCATION:The Red Room\, 742 Newcastle St\, Leederville\, 6070
CATEGORIES:Author Talk,Events,Love to Read Local
ATTACH;FMTTYPE=image/png:https://www.writingwa.org/wp-content/uploads/2026/02/Cww3-banner-2160-x-1080-px.png
ORGANIZER;CN="Books in the Brewery":MAILTO:Booksinthebrewery@gmail.com
END:VEVENT
END:VCALENDAR