BEGIN:VCALENDAR
VERSION:2.0
PRODID:-//Writing WA - ECPv6.15.20//NONSGML v1.0//EN
CALSCALE:GREGORIAN
METHOD:PUBLISH
X-WR-CALNAME:Writing WA
X-ORIGINAL-URL:https://www.writingwa.org
X-WR-CALDESC:Events for Writing WA
REFRESH-INTERVAL;VALUE=DURATION:PT1H
X-Robots-Tag:noindex
X-PUBLISHED-TTL:PT1H
BEGIN:VTIMEZONE
TZID:Australia/Perth
BEGIN:STANDARD
TZOFFSETFROM:+0800
TZOFFSETTO:+0800
TZNAME:AWST
DTSTART:20250101T000000
END:STANDARD
END:VTIMEZONE
BEGIN:VEVENT
DTSTART;TZID=Australia/Perth:20260328T180000
DTEND;TZID=Australia/Perth:20260328T190000
DTSTAMP:20260422T213150
CREATED:20260312T012940Z
LAST-MODIFIED:20260312T012940Z
UID:10005226-1774720800-1774724400@www.writingwa.org
SUMMARY:Writing Romance: Rachael Johns\, Amy Andrews and Clare Connelly
DESCRIPTION:Stirling Libraries\, together with Dymocks books\, present an event with three shining stars of Australia’s’ romance renaissance. \nRachael Johns is the bestselling author of The Patterson Girls\, winner of the ABIA for General Fiction\, and a two-time recipient of the Romance Writers of Australia’s RUBY Award. With more than 30 titles to her name\, she’s one of Australia’s most beloved authors of warm\, witty women’s fiction and heartfelt rural romance. Rachael also co-hosts two podcasts – Reading Between Deadlines and Dear Rach & Soph. \nAmy Andrews is an award-winning\, USA Today best-selling Aussie author who has written more than 90 contemporary romances. She has sold over 3 million books worldwide\, won three Romance Writers of Australia RUBY awards for excellence in romantic fiction and been nominated three times for the Romance Writers of America RITA award. Her books can be found in translation in over two dozen countries\, including several titles in manga. \nClare Connelly is the bestselling author of more than one hundred and thirty romance novels. Having self-published her first book in 2014\, by the end of that year\, she was an Amazon All-Star in the US and UK and has since sold millions of copies of her books. Clare has lived and breathed romance for as long as she can remember: anything from Mills & Boon to Jane Austen\, Georgette Heyer and Jilly Cooper. \nJoin Clare\, Amy and Rachael in fascinating and hysterical conversation\, as they talk about the process\, passion and inspirations that influence their writing. \nBookings are essential as places are limited.
URL:https://www.writingwa.org/event/writing-romance-rachael-johns-amy-andrews-and-clare-connelly/
LOCATION:Stirling Leisure – Osborne Community Centre\, 11 Royal Street\, Osborne Park\, 6017
CATEGORIES:Author Talk,Events
ATTACH;FMTTYPE=image/jpeg:https://www.writingwa.org/wp-content/uploads/2026/03/Romance.jpg
END:VEVENT
END:VCALENDAR