BEGIN:VCALENDAR
VERSION:2.0
PRODID:-//Writing WA - ECPv6.15.20//NONSGML v1.0//EN
CALSCALE:GREGORIAN
METHOD:PUBLISH
X-WR-CALNAME:Writing WA
X-ORIGINAL-URL:https://www.writingwa.org
X-WR-CALDESC:Events for Writing WA
REFRESH-INTERVAL;VALUE=DURATION:PT1H
X-Robots-Tag:noindex
X-PUBLISHED-TTL:PT1H
BEGIN:VTIMEZONE
TZID:Australia/Perth
BEGIN:STANDARD
TZOFFSETFROM:+0800
TZOFFSETTO:+0800
TZNAME:AWST
DTSTART:20250101T000000
END:STANDARD
END:VTIMEZONE
BEGIN:VEVENT
DTSTART;TZID=Australia/Perth:20260211T080000
DTEND;TZID=Australia/Perth:20260328T233000
DTSTAMP:20260417T170457
CREATED:20260216T063356Z
LAST-MODIFIED:20260216T063356Z
UID:10005201-1770796800-1774740600@www.writingwa.org
SUMMARY:The Letter Review Prize for Short Fiction\, Poetry\, and Books
DESCRIPTION:Prizes: 2-4 winners are announced in each category who are published and share in the $3000 USD total prize pool. Twenty writers are shortlisted in each category. All entries considered for publication\, and for submission to the Pushcart Prize and other anthologies.\nEntry Fee: $20USD – $30 USD\nDates: Open now\, closing 28th March 11:59 pm ET.\nWord Length: Prose: 0 – 5000 words. Poetry: 70 lines.\nDetails: Open to anyone in the world. There are no genre or theme restrictions.\nEnter Here: https://letterreview.com/information/
URL:https://www.writingwa.org/event/the-letter-review-prize-for-short-fiction-poetry-and-books/
LOCATION:Online
CATEGORIES:Competitions
ATTACH;FMTTYPE=image/jpeg:https://www.writingwa.org/wp-content/uploads/2026/02/Logo-Letter-Review.jpg
ORGANIZER;CN="The Letter Review":MAILTO:https://letterreview.com/information/
END:VEVENT
BEGIN:VEVENT
DTSTART;TZID=Australia/Perth:20260301T000000
DTEND;TZID=Australia/Perth:20260531T233000
DTSTAMP:20260417T170457
CREATED:20260305T024718Z
LAST-MODIFIED:20260305T024718Z
UID:10005224-1772323200-1780270200@www.writingwa.org
SUMMARY:NSW Poetry Prize
DESCRIPTION:NSW Poetry Prize runs from 1 March – 31 May 2026.\nThe theme for this year’s competition is Comedy.\nThe top 3 spots will be awarded as follows:\nFirst place – $200AU Second place – $100AU Third place – $50AU\nMaximum lines: 50 \nFor all rules and submission details go to: https://nswpoetryprize.au/
URL:https://www.writingwa.org/event/nsw-poetry-prize/
CATEGORIES:Competitions
ATTACH;FMTTYPE=image/png:https://www.writingwa.org/wp-content/uploads/2026/03/nsw-poetry-prize-high-res.png
END:VEVENT
END:VCALENDAR